Workbook

Sheet KL Khoa HK1
A1: ỦY BAN NHÂN DÂN TP.HCM | K1: CỘNG HÒA XÃ HỘI CHỦ NGHĨA VIỆT NAM
A2: TRƯỜNG CĐ KỸ THUẬT LÝ TỰ TRỌNG | K2: Độc lập - Tự do - Hạnh phúc
H4: TỔNG KẾT KHỐI LƯỢNG CÔNG TÁC GIÁO VIÊN - GIẢNG VIÊN
H5: NĂM HỌC | I5: 2015 - 2016
G6: KHOA : | H6: CÔNG NGHỆ CƠ KHÍ
M7: (Đơn vị tính: tiết)
A8: TT | B8: Họ và Tên | D8: Thực hiện trong học kỳ I | H8: Số tiết chuẩn giảng dạy cả năm | I8: Tổng số tiết giảng dạy thừa | J8: Tổng số tiết giảng dạy thiếu | K8: Tổng số tết khối lượng " hoạt động chuyên môn và khối lượng khác" thừa | L8: Tổng số tiết NCKH thừa | M8: Tổng số tiết NCKH thiếu | N8: Tổng số tiết vượt giờ | O8: Tổng số tiết thiếu
D9: Thực hiện giảng dạy đã nhân hệ số | E9: Kiêm nhiệm | F9: Khối lượng công tác cộng thêm | G9: Tổng thực hiện
A10: (1) | B10: (2) | D10: (3) | E10: (4) | F10: (5) | G10: (6) | H10: (7) | I10: (8) | J10: (9) | K10: (10) | L10: (11) | M10: (12) | N10: (13) | O10: (14)
A11: 1 | B11: Dương Minh | C11: Chung | D11: 168 | E11: 20.3 | F11: 0 | G11: 188.3 | H11: 270 | I11: 0 | J11: 81.7 | M11: 86 | N11: 0 | O11: 167.7
A12: 2 | B12: Nguyễn Tam | C12: Cương | D12: 124.5 | E12: 20.3 | F12: 0 | G12: 144.8 | H12: 270 | I12: 0 | J12: 125.2 | M12: 156 | N12: 0 | O12: 281.2
A13: 3 | B13: Nguyễn Tiến | C13: Dũng | D13: 135 | E13: 20.3 | F13: 0 | G13: 155.3 | H13: 270 | I13: 0 | J13: 114.7 | M13: 156 | N13: 0 | O13: 270.7
A14: 4 | B14: Nguyễn Duy | C14: Hải | D14: 212 | E14: 27 | F14: 0 | G14: 239 | H14: 270 | I14: 0 | J14: 31 | M14: 156 | N14: 0 | O14: 187
A15: 5 | B15: Dương Thị | C15: Hồng | D15: 192 | E15: 0 | F15: 0 | G15: 192 | H15: 135 | I15: 57 | J15: 0 | M15: 156 | N15: 0 | O15: 99
A16: 6 | B16: Trương Thị Phương | C16: Hồng | D16: 330 | E16: 0 | F16: 0 | G16: 330 | H16: 270 | I16: 60 | J16: 0 | M16: 156 | N16: 0 | O16: 96
A17: 7 | B17: Trần Thị | C17: Hương | D17: 224 | E17: 20.3 | F17: 0 | G17: 244.3 | H17: 270 | I17: 0 | J17: 25.7 | M17: 156 | N17: 0 | O17: 181.7
A18: 8 | B18: Trần Đình | C18: Khải | D18: 346.4 | E18: 27 | F18: 0 | G18: 373.4 | H18: 270 | I18: 103.4 | J18: 0 | M18: 156 | N18: 0 | O18: 52.6
A19: 9 | B19: Vũ Quang | C19: Khải | D19: 396 | E19: 20.3 | F19: 0 | G19: 416.3 | H19: 270 | I19: 146.3 | J19: 0 | M19: 156 | N19: 0 | O19: 9.7
A20: 10 | B20: Đỗ Thị Phương | C20: Khanh | D20: 165 | E20: 0 | F20: 0 | G20: 165 | H20: 270 | I20: 0 | J20: 105 | M20: 156 | N20: 0 | O20: 261
A21: 11 | B21: Nguyễn Thành | C21: Long | D21: 186.2 | E21: 20.3 | F21: 0 | G21: 206.5 | H21: 270 | I21: 0 | J21: 63.5 | M21: 86 | N21: 0 | O21: 149.5
A22: 12 | B22: Nguyễn Tiến | C22: Nhân | D22: 327 | E22: 20.3 | F22: 0 | G22: 347.3 | H22: 270 | I22: 77.3 | J22: 0 | M22: 156 | N22: 0 | O22: 78.7
... A34: 24 | B34: Nguyễn Thanh | C34: Vũ | D34: 340.2 | E34: 20.3 | F34: 0 | G34: 360.5 | H34: 270 | I34: 90.5 | J34: 0 | M34: 156 | N34: 0 | O34: 65.5
A35: TỔNG CỘNG (theo tiết) | G35: =SUM(G11:G34) -> 6457.4 | H35: =SUM(H11:H34) -> 6210 | I35: =SUM(I11:I34) -> 1231.5 | J35: =SUM(J11:J34) -> 984.1 | K35: =SUM(K11:K34) -> 0 | L35: =SUM(L11:L34) -> 0 | M35: =SUM(M11:M34) -> 3196 | N35: =SUM(N11:N34) -> 173.8 | O35: =SUM(O11:O34) -> 3122.4
B37: CÁCH TÍNH: | C37: Cột (6) = | D37: cột (3) + cột (4) + cột (5).
C38: Cột (13) hoặc cột (14) = cột (8)- cột (9)+ cột (10)+ cột (11) - cột (12).
N41: Ngày …... tháng ….. năm 2016
A42: HIỆU TRƯỞNG | C42: TRƯỞNG PHÒNG ĐÀO TẠO | G42: TRƯỞNG P. KHCN&QHQT | K42: TRƯỞNG P. TC-HC-TH | N42: TRƯỞNG KHOA

Sheet KL Khoa HK2
A1: ỦY BAN NHÂN DÂN TP.HCM | K1: CỘNG HÒA XÃ HỘI CHỦ NGHĨA VIỆT NAM
A2: TRƯỜNG CĐ KỸ THUẬT LÝ TỰ TRỌNG | K2: Độc lập - Tự do - Hạnh phúc
H4: TỔNG KẾT KHỐI LƯỢNG CÔNG TÁC GIÁO VIÊN - GIẢNG VIÊN
H5: NĂM HỌC | I5: 2015 - 2016
G6: KHOA : | H6: CÔNG NGHỆ CƠ KHÍ
M7: (Đơn vị tính: tiết)
A8: TT | B8: Họ và Tên | D8: Thực hiện trong học kỳ II | H8: Số tiết chuẩn giảng dạy cả năm | I8: Tổng số tiết giảng dạy thừa | J8: Tổng số tiết giảng dạy thiếu | K8: Tổng số tết khối lượng " hoạt động chuyên môn và khối lượng khác" thừa | L8: Tổng số tiết NCKH thừa | M8: Tổng số tiết NCKH thiếu | N8: Tổng số tiết vượt giờ | O8: Tổng số tiết thiếu
D9: Thực hiện giảng dạy đã nhân hệ số | E9: Kiêm nhiệm | F9: Khối lượng công tác cộng thêm | G9: Tổng thực hiện
A10: (1) | B10: (2) | D10: (3) | E10: (4) | F10: (5) | G10: (6) | H10: (7) | I10: (8) | J10: (9) | K10: (10) | L10: (11) | M10: (12) | N10: (13) | O10: (14)
A11: 1 | B11: Dương Minh | C11: Chung | D11: 355.1 | E11: 20.3 | F11: 0 | G11: 375.4 | H11: 270 | I11: =IF(G11>H11,G11-H11,0) -> 105.4 | J11: =IF(G11<H11,H11-G11,0) -> 0 | M11: =156-70 -> 86 | N11: =IF((I11+K11+L11)>(J11+M11),(I11+K11+L11)-(J11+M11),0) -> 19.4 | O11: =IF((M11+J11)>(I11+K11+L11),(M11+J11)-(I11+K11+L11),0) -> 0
A12: 2 | B12: Nguyễn Tam | C12: Cương | D12: 450 | E12: 20.3 | F12: 0 | G12: 470.3 | H12: 270 | I12: =IF(G12>H12,G12-H12,0) -> 200.3 | J12: =IF(G12<H12,H12-G12,0) -> 0 | M12: 156 | N12: =IF((I12+K12+L12)>(J12+M12),(I12+K12+L12)-(J12+M12),0) -> 44.3 | O12: =IF((M12+J12)>(I12+K12+L12),(M12+J12)-(I12+K12+L12),0) -> 0
A13: 3 | B13: Nguyễn Tiến | C13: Dũng | D13: 470.8 | E13: 20.3 | F13: 0 | G13: 491.1 | H13: 270 | I13: =IF(G13>H13,G13-H13,0) -> 221.1 | J13: =IF(G13<H13,H13-G13,0) -> 0 | M13: 156 | N13: =IF((I13+K13+L13)>(J13+M13),(I13+K13+L13)-(J13+M13),0) -> 65.1 | O13: =IF((M13+J13)>(I13+K13+L13),(M13+J13)-(I13+K13+L13),0) -> 0
A14: 4 | B14: Nguyễn Duy | C14: Hải | D14: 260 | E14: 27 | F14: 0 | G14: 287 | H14: 270 | I14: =IF(G14>H14,G14-H14,0) -> 17 | J14: =IF(G14<H14,H14-G14,0) -> 0 | M14: 156 | N14: =IF((I14+K14+L14)>(J14+M14),(I14+K14+L14)-(J14+M14),0) -> 0 | O14: =IF((M14+J14)>(I14+K14+L14),(M14+J14)-(I14+K14+L14),0) -> 139
A15: 5 | B15: Dương Thị | C15: Hồng | D15: 114 | E15: 0 | F15: 0 | G15: 114 | H15: 135 | I15: =IF(G15>H15,G15-H15,0) -> 0 | J15: =IF(G15<H15,H15-G15,0) -> 21 | M15: 156 | N15: =IF((I15+K15+L15)>(J15+M15),(I15+K15+L15)-(J15+M15),0) -> 0 | O15: =IF((M15+J15)>(I15+K15+L15),(M15+J15)-(I15+K15+L15),0) -> 177
A16: 6 | B16: Trương Thị Phương | C16: Hồng | D16: 184 | E16: 0 | F16: 0 | G16: 184 | H16: 270 | I16: =IF(G16>H16,G16-H16,0) -> 0 | J16: =IF(G16<H16,H16-G16,0) -> 86 | M16: 156 | N16: =IF((I16+K16+L16)>(J16+M16),(I16+K16+L16)-(J16+M16),0) -> 0 | O16: =IF((M16+J16)>(I16+K16+L16),(M16+J16)-(I16+K16+L16),0) -> 242
A17: 7 | B17: Trần Thị | C17: Hương | D17: 393 | E17: 20.3 | F17: 0 | G17: 413.3 | H17: 270 | I17: =IF(G17>H17,G17-H17,0) -> 143.3 | J17: =IF(G17<H17,H17-G17,0) -> 0 | M17: 156 | N17: =IF((I17+K17+L17)>(J17+M17),(I17+K17+L17)-(J17+M17),0) -> 0 | O17: =IF((M17+J17)>(I17+K17+L17),(M17+J17)-(I17+K17+L17),0) -> 12.7
A18: 8 | B18: Trần Đình | C18: Khải | D18: 177.5 | E18: 33.8 | F18: 0 | G18: 211.3 | H18: 270 | I18: =IF(G18>H18,G18-H18,0) -> 0 | J18: =IF(G18<H18,H18-G18,0) -> 58.7 | M18: 156 | N18: =IF((I18+K18+L18)>(J18+M18),(I18+K18+L18)-(J18+M18),0) -> 0 | O18: =IF((M18+J18)>(I18+K18+L18),(M18+J18)-(I18+K18+L18),0) -> 214.7
A19: 9 | B19: Vũ Quang | C19: Khải | D19: 160.5 | E19: 20.3 | F19: 0 | G19: 180.8 | H19: 270 | I19: =IF(G19>H19,G19-H19,0) -> 0 | J19: =IF(G19<H19,H19-G19,0) -> 89.2 | M19: 156 | N19: =IF((I19+K19+L19)>(J19+M19),(I19+K19+L19)-(J19+M19),0) -> 0 | O19: =IF((M19+J19)>(I19+K19+L19),(M19+J19)-(I19+K19+L19),0) -> 245.2
A20: 10 | B20: Đỗ Thị Phương | C20: Khanh | D20: 325 | E20: 0 | F20: 0 | G20: 325 | H20: 270 | I20: =IF(G20>H20,G20-H20,0) -> 55 | J20: =IF(G20<H20,H20-G20,0) -> 0 | M20: 156 | N20: =IF((I20+K20+L20)>(J20+M20),(I20+K20+L20)-(J20+M20),0) -> 0 | O20: =IF((M20+J20)>(I20+K20+L20),(M20+J20)-(I20+K20+L20),0) -> 101
A21: 11 | B21: Nguyễn Thành | C21: Long | D21: 334.3 | E21: 20.3 | F21: 0 | G21: 354.6 | H21: 270 | I21: =IF(G21>H21,G21-H21,0) -> 84.6 | J21: =IF(G21<H21,H21-G21,0) -> 0 | M21: =156-70 -> 86 | N21: =IF((I21+K21+L21)>(J21+M21),(I21+K21+L21)-(J21+M21),0) -> 0 | O21: =IF((M21+J21)>(I21+K21+L21),(M21+J21)-(I21+K21+L21),0) -> 1.4
A22: 12 | B22: Nguyễn Tiến | C22: Nhân | D22: 195 | E22: 20.3 | F22: 0 | G22: 215.3 | H22: 270 | I22: =IF(G22>H22,G22-H22,0) -> 0 | J22: =IF(G22<H22,H22-G22,0) -> 54.7 | M22: 156 | N22: =IF((I22+K22+L22)>(J22+M22),(I22+K22+L22)-(J22+M22),0) -> 0 | O22: =IF((M22+J22)>(I22+K22+L22),(M22+J22)-(I22+K22+L22),0) -> 210.7
A23: 13 | B23: Vũ Đức | C23: Pháp | D23: 257.5 | E23: 20.3 | F23: 0 | G23: 277.8 | H23: 270 | I23: =IF(G23>H23,G23-H23,0) -> 7.8 | J23: =IF(G23<H23,H23-G23,0) -> 0 | M23: 156 | N23: =IF((I23+K23+L23)>(J23+M23),(I23+K23+L23)-(J23+M23),0) -> 0 | O23: =IF((M23+J23)>(I23+K23+L23),(M23+J23)-(I23+K23+L23),0) -> 148.2
A24: 14 | B24: Nguyễn Thanh Vĩnh | C24: Phúc | D24: 180.8 | E24: 20.3 | F24: 0 | G24: 201.1 | H24: 270 | I24: =IF(G24>H24,G24-H24,0) -> 0 | J24: =IF(G24<H24,H24-G24,0) -> 68.9 | M24: 156 | N24: =IF((I24+K24+L24)>(J24+M24),(I24+K24+L24)-(J24+M24),0) -> 0 | O24: =IF((M24+J24)>(I24+K24+L24),(M24+J24)-(I24+K24+L24),0) -> 224.9
A25: 15 | B25: Võ Thúy | C25: Phương | D25: 0 | E25: 0 | F25: 0 | G25: 0 | H25: 135 | I25: =IF(G25>H25,G25-H25,0) -> 0 | J25: =IF(G25<H25,H25-G25,0) -> 135 | M25: 78 | N25: =IF((I25+K25+L25)>(J25+M25),(I25+K25+L25)-(J25+M25),0) -> 0 | O25: =IF((M25+J25)>(I25+K25+L25),(M25+J25)-(I25+K25+L25),0) -> 213
A26: 16 | B26: Võ Minh | C26: Quang | D26: 173.6 | E26: 20.3 | F26: 0 | G26: 193.9 | H26: 270 | I26: =IF(G26>H26,G26-H26,0) -> 0 | J26: =IF(G26<H26,H26-G26,0) -> 76.1 | M26: 156 | N26: =IF((I26+K26+L26)>(J26+M26),(I26+K26+L26)-(J26+M26),0) -> 0 | O26: =IF((M26+J26)>(I26+K26+L26),(M26+J26)-(I26+K26+L26),0) -> 232.1
A27: 17 | B27: Nguyễn Ngọc | C27: Quỳnh | D27: 166.6 | E27: 20.3 | F27: 0 | G27: 186.9 | H27: 270 | I27: =IF(G27>H27,G27-H27,0) -> 0 | J27: =IF(G27<H27,H27-G27,0) -> 83.1 | M27: =156-70 -> 86 | N27: =IF((I27+K27+L27)>(J27+M27),(I27+K27+L27)-(J27+M27),0) -> 0 | O27: =IF((M27+J27)>(I27+K27+L27),(M27+J27)-(I27+K27+L27),0) -> 169.1
A28: 18 | B28: Phan Văn | C28: Thành | D28: 300 | E28: 0 | F28: 0 | G28: 300 | H28: 270 | I28: =IF(G28>H28,G28-H28,0) -> 30 | J28: =IF(G28<H28,H28-G28,0) -> 0 | M28: 156 | N28: =IF((I28+K28+L28)>(J28+M28),(I28+K28+L28)-(J28+M28),0) -> 0 | O28: =IF((M28+J28)>(I28+K28+L28),(M28+J28)-(I28+K28+L28),0) -> 126
A29: 19 | B29: Trần Minh | C29: Thông | D29: 371.2 | E29: 20.3 | F29: 0 | G29: 391.5 | H29: 270 | I29: =IF(G29>H29,G29-H29,0) -> 121.5 | J29: =IF(G29<H29,H29-G29,0) -> 0 | M29: =156-70 -> 86 | N29: =IF((I29+K29+L29)>(J29+M29),(I29+K29+L29)-(J29+M29),0) -> 35.5 | O29: =IF((M29+J29)>(I29+K29+L29),(M29+J29)-(I29+K29+L29),0) -> 0
A30: 20 | B30: Phan Thị Xuân | C30: Trang | D30: 295.5 | E30: 20.3 | F30: 0 | G30: 315.8 | H30: 270 | I30: =IF(G30>H30,G30-H30,0) -> 45.8 | J30: =IF(G30<H30,H30-G30,0) -> 0 | M30: 156 | N30: =IF((I30+K30+L30)>(J30+M30),(I30+K30+L30)-(J30+M30),0) -> 0 | O30: =IF((M30+J30)>(I30+K30+L30),(M30+J30)-(I30+K30+L30),0) -> 110.2
A31: 21 | B31: Bùi Anh | C31: Tuấn | D31: 356 | E31: 27 | F31: 0 | G31: 383 | H31: 270 | I31: =IF(G31>H31,G31-H31,0) -> 113 | J31: =IF(G31<H31,H31-G31,0) -> 0 | M31: 156 | N31: =IF((I31+K31+L31)>(J31+M31),(I31+K31+L31)-(J31+M31),0) -> 0 | O31: =IF((M31+J31)>(I31+K31+L31),(M31+J31)-(I31+K31+L31),0) -> 43
A32: 22 | B32: Chung Trần Thế | C32: Vinh | D32: 160 | E32: 40.5 | F32: 0 | G32: 200.5 | H32: 270 | I32: =IF(G32>H32,G32-H32,0) -> 0 | J32: =IF(G32<H32,H32-G32,0) -> 69.5 | M32: 36 | N32: =IF((I32+K32+L32)>(J32+M32),(I32+K32+L32)-(J32+M32),0) -> 0 | O32: =IF((M32+J32)>(I32+K32+L32),(M32+J32)-(I32+K32+L32),0) -> 105.5
A33: 23 | B33: Lư Thị Yến | C33: Vũ | D33: 423 | E33: 20.3 | F33: 0 | G33: 443.3 | H33: 270 | I33: =IF(G33>H33,G33-H33,0) -> 173.3 | J33: =IF(G33<H33,H33-G33,0) -> 0 | M33: =156-70 -> 86 | N33: =IF((I33+K33+L33)>(J33+M33),(I33+K33+L33)-(J33+M33),0) -> 87.3 | O33: =IF((M33+J33)>(I33+K33+L33),(M33+J33)-(I33+K33+L33),0) -> 0
A34: 24 | B34: Nguyễn Thanh | C34: Vũ | D34: 291 | E34: 20.3 | F34: 0 | G34: 311.3 | H34: 270 | I34: =IF(G34>H34,G34-H34,0) -> 41.3 | J34: =IF(G34<H34,H34-G34,0) -> 0 | M34: 156 | N34: =IF((I34+K34+L34)>(J34+M34),(I34+K34+L34)-(J34+M34),0) -> 0 | O34: =IF((M34+J34)>(I34+K34+L34),(M34+J34)-(I34+K34+L34),0) -> 114.7
A35: TỔNG CỘNG (theo tiết) | G35: =SUM(G11:G34) -> 6827.2 | H35: =SUM(H11:H34) -> 6210 | I35: =SUM(I11:I34) -> 1359.4 | J35: =SUM(J11:J34) -> 742.2 | K35: =SUM(K11:K34) -> 0 | L35: =SUM(L11:L34) -> 0 | M35: =SUM(M11:M34) -> 3196 | N35: =SUM(N11:N34) -> 251.6 | O35: =SUM(O11:O34) -> 2830.4
B37: CÁCH TÍNH: | C37: Cột (6) = | D37: cột (3) + cột (4) + cột (5).
C38: Cột (13) hoặc cột (14) = cột (8)- cột (9)+ cột (10)+ cột (11) - cột (12).
N41: Ngày …... tháng ….. năm 2016
A42: HIỆU TRƯỞNG | C42: TRƯỞNG PHÒNG ĐÀO TẠO | G42: TRƯỞNG P. KHCN&QHQT | K42: TRƯỞNG P. TC-HC-TH | N42: TRƯỞNG KHOA

Sheet KL Nam Hoc 15-16
A1: ỦY BAN NHÂN DÂN TP.HCM | K1: CỘNG HÒA XÃ HỘI CHỦ NGHĨA VIỆT NAM
A2: TRƯỜNG CĐ KỸ THUẬT LÝ TỰ TRỌNG | K2: Độc lập - Tự do - Hạnh phúc
H4: TỔNG KẾT KHỐI LƯỢNG CÔNG TÁC GIÁO VIÊN - GIẢNG VIÊN
H5: NĂM HỌC | I5: 2015 - 2016
G6: KHOA : | H6: CÔNG NGHỆ CƠ KHÍ
M7: (Đơn vị tính: tiết)
A8: TT | B8: Họ và Tên | D8: Thực hiện trong năm | H8: Số tiết chuẩn giảng dạy cả năm | I8: Tổng số tiết giảng dạy thừa | J8: Tổng số tiết giảng dạy thiếu | K8: Tổng số tết khối lượng " hoạt động chuyên môn và khối lượng khác" thừa | L8: Tổng số tiết NCKH thừa | M8: Tổng số tiết NCKH thiếu | N8: Tổng số tiết vượt giờ | O8: Tổng số tiết thiếu
D9: Thực hiện giảng dạy đã nhân hệ số | E9: Kiêm nhiệm | F9: Khối lượng công tác cộng thêm | G9: Tổng thực hiện
A10: (1) | B10: (2) | D10: (3) | E10: (4) | F10: (5) | G10: (6) | H10: (7) | I10: (8) | J10: (9) | K10: (10) | L10: (11) | M10: (12) | N10: (13) | O10: (14)
A11: 1 | B11: Dương Minh | C11: Chung | D11: ='KL Khoa HK1'!D11+'KL Khoa HK2'!D11 -> 523.1 | E11: ='KL Khoa HK1'!E11+'KL Khoa HK2'!E11 -> 40.6 | F11: ='KL Khoa HK1'!F11+'KL Khoa HK2'!F11 -> 0 | G11: =F11+E11+D11 -> 563.7 | H11: 270 | I11: =IF(G11>H11,G11-H11,0) -> 293.7 | J11: =IF(G11<H11,H11-G11,0) -> 0 | M11: =156-70 -> 86 | N11: =IF((I11+K11+L11)>(J11+M11),(I11+K11+L11)-(J11+M11),0) -> 207.7 | O11: =IF((M11+J11)>(I11+K11+L11),(M11+J11)-(I11+K11+L11),0) -> 0
A12: 2 | B12: Nguyễn Tam | C12: Cương | D12: ='KL Khoa HK1'!D12+'KL Khoa HK2'!D12 -> 574.5 | E12: ='KL Khoa HK1'!E12+'KL Khoa HK2'!E12 -> 40.6 | F12: ='KL Khoa HK1'!F12+'KL Khoa HK2'!F12 -> 0 | G12: =F12+E12+D12 -> 615.1 | H12: 270 | I12: =IF(G12>H12,G12-H12,0) -> 345.1 | J12: =IF(G12<H12,H12-G12,0) -> 0 | M12: 156 | N12: =IF((I12+K12+L12)>(J12+M12),(I12+K12+L12)-(J12+M12),0) -> 189.1 | O12: =IF((M12+J12)>(I12+K12+L12),(M12+J12)-(I12+K12+L12),0) -> 0
A13: 3 | B13: Nguyễn Tiến | C13: Dũng | D13: ='KL Khoa HK1'!D13+'KL Khoa HK2'!D13 -> 605.8 | E13: ='KL Khoa HK1'!E13+'KL Khoa HK2'!E13 -> 40.6 | F13: ='KL Khoa HK1'!F13+'KL Khoa HK2'!F13 -> 0 | G13: =F13+E13+D13 -> 646.4 | H13: 270 | I13: =IF(G13>H13,G13-H13,0) -> 376.4 | J13: =IF(G13<H13,H13-G13,0) -> 0 | M13: 156 | N13: =IF((I13+K13+L13)>(J13+M13),(I13+K13+L13)-(J13+M13),0) -> 220.4 | O13: =IF((M13+J13)>(I13+K13+L13),(M13+J13)-(I13+K13+L13),0) -> 0
A14: 4 | B14: Nguyễn Duy | C14: Hải | D14: ='KL Khoa HK1'!D14+'KL Khoa HK2'!D14 -> 472 | E14: ='KL Khoa HK1'!E14+'KL Khoa HK2'!E14 -> 54 | F14: ='KL Khoa HK1'!F14+'KL Khoa HK2'!F14 -> 0 | G14: =F14+E14+D14 -> 526 | H14: 270 | I14: =IF(G14>H14,G14-H14,0) -> 256 | J14: =IF(G14<H14,H14-G14,0) -> 0 | M14: 156 | N14: =IF((I14+K14+L14)>(J14+M14),(I14+K14+L14)-(J14+M14),0) -> 100 | O14: =IF((M14+J14)>(I14+K14+L14),(M14+J14)-(I14+K14+L14),0) -> 0
A15: 5 | B15: Dương Thị | C15: Hồng | D15: ='KL Khoa HK1'!D15+'KL Khoa HK2'!D15 -> 306 | E15: ='KL Khoa HK1'!E15+'KL Khoa HK2'!E15 -> 0 | F15: ='KL Khoa HK1'!F15+'KL Khoa HK2'!F15 -> 0 | G15: =F15+E15+D15 -> 306 | H15: 135 | I15: =IF(G15>H15,G15-H15,0) -> 171 | J15: =IF(G15<H15,H15-G15,0) -> 0 | M15: 156 | N15: =IF((I15+K15+L15)>(J15+M15),(I15+K15+L15)-(J15+M15),0) -> 15 | O15: =IF((M15+J15)>(I15+K15+L15),(M15+J15)-(I15+K15+L15),0) -> 0
A16: 6 | B16: Trương Thị Phương | C16: Hồng | D16: ='KL Khoa HK1'!D16+'KL Khoa HK2'!D16 -> 514 | E16: ='KL Khoa HK1'!E16+'KL Khoa HK2'!E16 -> 0 | F16: ='KL Khoa HK1'!F16+'KL Khoa HK2'!F16 -> 0 | G16: =F16+E16+D16 -> 514 | H16: 270 | I16: =IF(G16>H16,G16-H16,0) -> 244 | J16: =IF(G16<H16,H16-G16,0) -> 0 | M16: 156 | N16: =IF((I16+K16+L16)>(J16+M16),(I16+K16+L16)-(J16+M16),0) -> 88 | O16: =IF((M16+J16)>(I16+K16+L16),(M16+J16)-(I16+K16+L16),0) -> 0
A17: 7 | B17: Trần Thị | C17: Hương | D17: ='KL Khoa HK1'!D17+'KL Khoa HK2'!D17 -> 617 | E17: ='KL Khoa HK1'!E17+'KL Khoa HK2'!E17 -> 40.6 | F17: ='KL Khoa HK1'!F17+'KL Khoa HK2'!F17 -> 0 | G17: =F17+E17+D17 -> 657.6 | H17: 270 | I17: =IF(G17>H17,G17-H17,0) -> 387.6 | J17: =IF(G17<H17,H17-G17,0) -> 0 | M17: 156 | N17: =IF((I17+K17+L17)>(J17+M17),(I17+K17+L17)-(J17+M17),0) -> 231.6 | O17: =IF((M17+J17)>(I17+K17+L17),(M17+J17)-(I17+K17+L17),0) -> 0
A18: 8 | B18: Trần Đình | C18: Khải | D18: ='KL Khoa HK1'!D18+'KL Khoa HK2'!D18 -> 523.9 | E18: ='KL Khoa HK1'!E18+'KL Khoa HK2'!E18 -> 60.8 | F18: ='KL Khoa HK1'!F18+'KL Khoa HK2'!F18 -> 0 | G18: =F18+E18+D18 -> 584.7 | H18: 270 | I18: =IF(G18>H18,G18-H18,0) -> 314.7 | J18: =IF(G18<H18,H18-G18,0) -> 0 | M18: 156 | N18: =IF((I18+K18+L18)>(J18+M18),(I18+K18+L18)-(J18+M18),0) -> 158.7 | O18: =IF((M18+J18)>(I18+K18+L18),(M18+J18)-(I18+K18+L18),0) -> 0
A19: 9 | B19: Vũ Quang | C19: Khải | D19: ='KL Khoa HK1'!D19+'KL Khoa HK2'!D19 -> 556.5 | E19: ='KL Khoa HK1'!E19+'KL Khoa HK2'!E19 -> 40.6 | F19: ='KL Khoa HK1'!F19+'KL Khoa HK2'!F19 -> 0 | G19: =F19+E19+D19 -> 597.1 | H19: 270 | I19: =IF(G19>H19,G19-H19,0) -> 327.1 | J19: =IF(G19<H19,H19-G19,0) -> 0 | M19: 156 | N19: =IF((I19+K19+L19)>(J19+M19),(I19+K19+L19)-(J19+M19),0) -> 171.1 | O19: =IF((M19+J19)>(I19+K19+L19),(M19+J19)-(I19+K19+L19),0) -> 0
A20: 10 | B20: Đỗ Thị Phương | C20: Khanh | D20: ='KL Khoa HK1'!D20+'KL Khoa HK2'!D20 -> 490 | E20: ='KL Khoa HK1'!E20+'KL Khoa HK2'!E20 -> 0 | F20: ='KL Khoa HK1'!F20+'KL Khoa HK2'!F20 -> 0 | G20: =F20+E20+D20 -> 490 | H20: 270 | I20: =IF(G20>H20,G20-H20,0) -> 220 | J20: =IF(G20<H20,H20-G20,0) -> 0 | M20: 156 | N20: =IF((I20+K20+L20)>(J20+M20),(I20+K20+L20)-(J20+M20),0) -> 64 | O20: =IF((M20+J20)>(I20+K20+L20),(M20+J20)-(I20+K20+L20),0) -> 0
A21: 11 | B21: Nguyễn Thành | C21: Long | D21: ='KL Khoa HK1'!D21+'KL Khoa HK2'!D21 -> 520.5 | E21: ='KL Khoa HK1'!E21+'KL Khoa HK2'!E21 -> 40.6 | F21: ='KL Khoa HK1'!F21+'KL Khoa HK2'!F21 -> 0 | G21: =F21+E21+D21 -> 561.1 | H21: 270 | I21: =IF(G21>H21,G21-H21,0) -> 291.1 | J21: =IF(G21<H21,H21-G21,0) -> 0 | M21: =156-70 -> 86 | N21: =IF((I21+K21+L21)>(J21+M21),(I21+K21+L21)-(J21+M21),0) -> 205.1 | O21: =IF((M21+J21)>(I21+K21+L21),(M21+J21)-(I21+K21+L21),0) -> 0
A22: 12 | B22: Nguyễn Tiến | C22: Nhân | D22: ='KL Khoa HK1'!D22+'KL Khoa HK2'!D22 -> 522 | E22: ='KL Khoa HK1'!E22+'KL Khoa HK2'!E22 -> 40.6 | F22: ='KL Khoa HK1'!F22+'KL Khoa HK2'!F22 -> 0 | G22: =F22+E22+D22 -> 562.6 | H22: 270 | I22: =IF(G22>H22,G22-H22,0) -> 292.6 | J22: =IF(G22<H22,H22-G22,0) -> 0 | M22: 156 | N22: =IF((I22+K22+L22)>(J22+M22),(I22+K22+L22)-(J22+M22),0) -> 136.6 | O22: =IF((M22+J22)>(I22+K22+L22),(M22+J22)-(I22+K22+L22),0) -> 0
A23: 13 | B23: Vũ Đức | C23: Pháp | D23: ='KL Khoa HK1'!D23+'KL Khoa HK2'!D23 -> 420.5 | E23: ='KL Khoa HK1'!E23+'KL Khoa HK2'!E23 -> 40.6 | F23: ='KL Khoa HK1'!F23+'KL Khoa HK2'!F23 -> 0 | G23: =F23+E23+D23 -> 461.1 | H23: 270 | I23: =IF(G23>H23,G23-H23,0) -> 191.1 | J23: =IF(G23<H23,H23-G23,0) -> 0 | M23: 156 | N23: =IF((I23+K23+L23)>(J23+M23),(I23+K23+L23)-(J23+M23),0) -> 35.1 | O23: =IF((M23+J23)>(I23+K23+L23),(M23+J23)-(I23+K23+L23),0) -> 0
A24: 14 | B24: Nguyễn Thanh Vĩnh | C24: Phúc | D24: ='KL Khoa HK1'!D24+'KL Khoa HK2'!D24 -> 585.6 | E24: ='KL Khoa HK1'!E24+'KL Khoa HK2'!E24 -> 40.6 | F24: ='KL Khoa HK1'!F24+'KL Khoa HK2'!F24 -> 0 | G24: =F24+E24+D24 -> 626.2 | H24: 270 | I24: =IF(G24>H24,G24-H24,0) -> 356.2 | J24: =IF(G24<H24,H24-G24,0) -> 0 | M24: 156 | N24: =IF((I24+K24+L24)>(J24+M24),(I24+K24+L24)-(J24+M24),0) -> 200.2 | O24: =IF((M24+J24)>(I24+K24+L24),(M24+J24)-(I24+K24+L24),0) -> 0
A25: 15 | B25: Võ Thúy | C25: Phương | D25: ='KL Khoa HK1'!D25+'KL Khoa HK2'!D25 -> 358.5 | E25: ='KL Khoa HK1'!E25+'KL Khoa HK2'!E25 -> 0 | F25: ='KL Khoa HK1'!F25+'KL Khoa HK2'!F25 -> 0 | G25: =F25+E25+D25 -> 358.5 | H25: 135 | I25: =IF(G25>H25,G25-H25,0) -> 223.5 | J25: =IF(G25<H25,H25-G25,0) -> 0 | M25: 78 | N25: =IF((I25+K25+L25)>(J25+M25),(I25+K25+L25)-(J25+M25),0) -> 145.5 | O25: =IF((M25+J25)>(I25+K25+L25),(M25+J25)-(I25+K25+L25),0) -> 0
A26: 16 | B26: Võ Minh | C26: Quang | D26: ='KL Khoa HK1'!D26+'KL Khoa HK2'!D26 -> 607.6 | E26: ='KL Khoa HK1'!E26+'KL Khoa HK2'!E26 -> 40.6 | F26: ='KL Khoa HK1'!F26+'KL Khoa HK2'!F26 -> 0 | G26: =F26+E26+D26 -> 648.2 | H26: 270 | I26: =IF(G26>H26,G26-H26,0) -> 378.2 | J26: =IF(G26<H26,H26-G26,0) -> 0 | M26: 156 | N26: =IF((I26+K26+L26)>(J26+M26),(I26+K26+L26)-(J26+M26),0) -> 222.2 | O26: =IF((M26+J26)>(I26+K26+L26),(M26+J26)-(I26+K26+L26),0) -> 0
A27: 17 | B27: Nguyễn Ngọc | C27: Quỳnh | D27: ='KL Khoa HK1'!D27+'KL Khoa HK2'!D27 -> 465.6 | E27: ='KL Khoa HK1'!E27+'KL Khoa HK2'!E27 -> 40.6 | F27: ='KL Khoa HK1'!F27+'KL Khoa HK2'!F27 -> 0 | G27: =F27+E27+D27 -> 506.2 | H27: 270 | I27: =IF(G27>H27,G27-H27,0) -> 236.2 | J27: =IF(G27<H27,H27-G27,0) -> 0 | M27: =156-70 -> 86 | N27: =IF((I27+K27+L27)>(J27+M27),(I27+K27+L27)-(J27+M27),0) -> 150.2 | O27: =IF((M27+J27)>(I27+K27+L27),(M27+J27)-(I27+K27+L27),0) -> 0
A28: 18 | B28: Phan Văn | C28: Thành | D28: ='KL Khoa HK1'!D28+'KL Khoa HK2'!D28 -> 556 | E28: ='KL Khoa HK1'!E28+'KL Khoa HK2'!E28 -> 0 | F28: ='KL Khoa HK1'!F28+'KL Khoa HK2'!F28 -> 0 | G28: =F28+E28+D28 -> 556 | H28: 270 | I28: =IF(G28>H28,G28-H28,0) -> 286 | J28: =IF(G28<H28,H28-G28,0) -> 0 | M28: 156 | N28: =IF((I28+K28+L28)>(J28+M28),(I28+K28+L28)-(J28+M28),0) -> 130 | O28: =IF((M28+J28)>(I28+K28+L28),(M28+J28)-(I28+K28+L28),0) -> 0
A29: 19 | B29: Trần Minh | C29: Thông | D29: ='KL Khoa HK1'!D29+'KL Khoa HK2'!D29 -> 491.2 | E29: ='KL Khoa HK1'!E29+'KL Khoa HK2'!E29 -> 40.6 | F29: ='KL Khoa HK1'!F29+'KL Khoa HK2'!F29 -> 0 | G29: =F29+E29+D29 -> 531.8 | H29: 270 | I29: =IF(G29>H29,G29-H29,0) -> 261.8 | J29: =IF(G29<H29,H29-G29,0) -> 0 | M29: =156-70 -> 86 | N29: =IF((I29+K29+L29)>(J29+M29),(I29+K29+L29)-(J29+M29),0) -> 175.8 | O29: =IF((M29+J29)>(I29+K29+L29),(M29+J29)-(I29+K29+L29),0) -> 0
A30: 20 | B30: Phan Thị Xuân | C30: Trang | D30: ='KL Khoa HK1'!D30+'KL Khoa HK2'!D30 -> 630 | E30: ='KL Khoa HK1'!E30+'KL Khoa HK2'!E30 -> 40.6 | F30: ='KL Khoa HK1'!F30+'KL Khoa HK2'!F30 -> 0 | G30: =F30+E30+D30 -> 670.6 | H30: 270 | I30: =IF(G30>H30,G30-H30,0) -> 400.6 | J30: =IF(G30<H30,H30-G30,0) -> 0 | M30: 156 | N30: =IF((I30+K30+L30)>(J30+M30),(I30+K30+L30)-(J30+M30),0) -> 244.6 | O30: =IF((M30+J30)>(I30+K30+L30),(M30+J30)-(I30+K30+L30),0) -> 0
A31: 21 | B31: Bùi Anh | C31: Tuấn | D31: ='KL Khoa HK1'!D31+'KL Khoa HK2'!D31 -> 483.5 | E31: ='KL Khoa HK1'!E31+'KL Khoa HK2'!E31 -> 54 | F31: ='KL Khoa HK1'!F31+'KL Khoa HK2'!F31 -> 0 | G31: =F31+E31+D31 -> 537.5 | H31: 270 | I31: =IF(G31>H31,G31-H31,0) -> 267.5 | J31: =IF(G31<H31,H31-G31,0) -> 0 | M31: 156 | N31: =IF((I31+K31+L31)>(J31+M31),(I31+K31+L31)-(J31+M31),0) -> 111.5 | O31: =IF((M31+J31)>(I31+K31+L31),(M31+J31)-(I31+K31+L31),0) -> 0
A32: 22 | B32: Chung Trần Thế | C32: Vinh | D32: ='KL Khoa HK1'!D32+'KL Khoa HK2'!D32 -> 308.5 | E32: ='KL Khoa HK1'!E32+'KL Khoa HK2'!E32 -> 74.3 | F32: ='KL Khoa HK1'!F32+'KL Khoa HK2'!F32 -> 0 | G32: =F32+E32+D32 -> 382.8 | H32: 270 | I32: =IF(G32>H32,G32-H32,0) -> 112.8 | J32: =IF(G32<H32,H32-G32,0) -> 0 | M32: 36 | N32: =IF((I32+K32+L32)>(J32+M32),(I32+K32+L32)-(J32+M32),0) -> 76.8 | O32: =IF((M32+J32)>(I32+K32+L32),(M32+J32)-(I32+K32+L32),0) -> 0
A33: 23 | B33: Lư Thị Yến | C33: Vũ | D33: ='KL Khoa HK1'!D33+'KL Khoa HK2'!D33 -> 669 | E33: ='KL Khoa HK1'!E33+'KL Khoa HK2'!E33 -> 40.6 | F33: ='KL Khoa HK1'!F33+'KL Khoa HK2'!F33 -> 0 | G33: =F33+E33+D33 -> 709.6 | H33: 270 | I33: =IF(G33>H33,G33-H33,0) -> 439.6 | J33: =IF(G33<H33,H33-G33,0) -> 0 | M33: =156-70 -> 86 | N33: =IF((I33+K33+L33)>(J33+M33),(I33+K33+L33)-(J33+M33),0) -> 353.6 | O33: =IF((M33+J33)>(I33+K33+L33),(M33+J33)-(I33+K33+L33),0) -> 0
A34: 24 | B34: Nguyễn Thanh | C34: Vũ | D34: ='KL Khoa HK1'!D34+'KL Khoa HK2'!D34 -> 631.2 | E34: ='KL Khoa HK1'!E34+'KL Khoa HK2'!E34 -> 40.6 | F34: ='KL Khoa HK1'!F34+'KL Khoa HK2'!F34 -> 0 | G34: =F34+E34+D34 -> 671.8 | H34: 270 | I34: =IF(G34>H34,G34-H34,0) -> 401.8 | J34: =IF(G34<H34,H34-G34,0) -> 0 | M34: 156 | N34: =IF((I34+K34+L34)>(J34+M34),(I34+K34+L34)-(J34+M34),0) -> 245.8 | O34: =IF((M34+J34)>(I34+K34+L34),(M34+J34)-(I34+K34+L34),0) -> 0
A35: TỔNG CỘNG (theo tiết) | G35: =SUM(G11:G34) -> 13284.6 | H35: =SUM(H11:H34) -> 6210 | I35: =SUM(I11:I34) -> 7074.6 | J35: =SUM(J11:J34) -> 0 | K35: =SUM(K11:K34) -> 0 | L35: =SUM(L11:L34) -> 0 | M35: =SUM(M11:M34) -> 3196 | N35: =SUM(N11:N34) -> 3878.6 | O35: =SUM(O11:O34) -> 0
B37: CÁCH TÍNH: | C37: Cột (6) = | D37: cột (3) + cột (4) + cột (5).
C38: Cột (13) hoặc cột (14) = cột (8)- cột (9)+ cột (10)+ cột (11) - cột (12).
M41: Ngày …... tháng ….. năm 2016
A43: HIỆU TRƯỞNG | C43: TRƯỞNG PHÒNG ĐÀO TẠO | G43: TRƯỞNG P. KHCN&QHQT | K43: TRƯỞNG P. TC-HC-TH | N43: TRƯỞNG KHOA
